BEGIN:VCALENDAR
VERSION:2.0
PRODID:-//RBC - ECPv6.15.18//NONSGML v1.0//EN
CALSCALE:GREGORIAN
METHOD:PUBLISH
X-ORIGINAL-URL:https://www.riverview-church.org
X-WR-CALDESC:Events for RBC
REFRESH-INTERVAL;VALUE=DURATION:PT1H
X-Robots-Tag:noindex
X-PUBLISHED-TTL:PT1H
BEGIN:VTIMEZONE
TZID:America/Chicago
BEGIN:DAYLIGHT
TZOFFSETFROM:-0600
TZOFFSETTO:-0500
TZNAME:CDT
DTSTART:20250309T080000
END:DAYLIGHT
BEGIN:STANDARD
TZOFFSETFROM:-0500
TZOFFSETTO:-0600
TZNAME:CST
DTSTART:20251102T070000
END:STANDARD
BEGIN:DAYLIGHT
TZOFFSETFROM:-0600
TZOFFSETTO:-0500
TZNAME:CDT
DTSTART:20260308T080000
END:DAYLIGHT
BEGIN:STANDARD
TZOFFSETFROM:-0500
TZOFFSETTO:-0600
TZNAME:CST
DTSTART:20261101T070000
END:STANDARD
BEGIN:DAYLIGHT
TZOFFSETFROM:-0600
TZOFFSETTO:-0500
TZNAME:CDT
DTSTART:20270314T080000
END:DAYLIGHT
BEGIN:STANDARD
TZOFFSETFROM:-0500
TZOFFSETTO:-0600
TZNAME:CST
DTSTART:20271107T070000
END:STANDARD
END:VTIMEZONE
BEGIN:VEVENT
DTSTART;VALUE=DATE:20260301
DTEND;VALUE=DATE:20260302
DTSTAMP:20260421T053648
CREATED:20251201T200835Z
LAST-MODIFIED:20260301T220728Z
UID:49289-1772323200-1772409599@www.riverview-church.org
SUMMARY:Sunday Evening Events
DESCRIPTION:430 p.m. Precepts\n5:00 p.m. Worship Band /Orchestra Rehearsal\n5:00 p.m. Ladies Bible Study\n5:00 p.m. Celebration Kids Choir\n5:00 p.m. PeeWee Praise\n5:30 p.m. Student Band Worship Practice\n6:30 p.m. Celebration Worship Choir\n6:30 p.m. Youth Lead Team
URL:https://www.riverview-church.org/event/sunday-evening-events-54/
ATTACH;FMTTYPE=image/jpeg:https://www.riverview-church.org/wp-content/uploads/2025/10/Sunday-Evening-.jpg
END:VEVENT
BEGIN:VEVENT
DTSTART;TZID=America/Chicago:20260302T183000
DTEND;TZID=America/Chicago:20260302T210000
DTSTAMP:20260421T053648
CREATED:20260217T215531Z
LAST-MODIFIED:20260302T222118Z
UID:49609-1772476200-1772485200@www.riverview-church.org
SUMMARY:Ladies Fellowship Mission Night
DESCRIPTION:Leaving the church at 5:45 p.m.\nRSVP to Keevie 918-798-0339
URL:https://www.riverview-church.org/event/ladies-fellowship-mission-night/
LOCATION:1608 S Elwood Ave\, Tulsa\, OK\, United States
ATTACH;FMTTYPE=image/jpeg:https://www.riverview-church.org/wp-content/uploads/2022/04/Ladies-Fellowship.jpg
GEO:36.1551375;-95.989501
END:VEVENT
BEGIN:VEVENT
DTSTART;TZID=America/Chicago:20260303T070000
DTEND;TZID=America/Chicago:20260303T090000
DTSTAMP:20260421T053648
CREATED:20251209T202030Z
LAST-MODIFIED:20260112T194052Z
UID:49323-1772521200-1772528400@www.riverview-church.org
SUMMARY:Men's Morning Bible Study & Breakfast
DESCRIPTION:
URL:https://www.riverview-church.org/event/mens-morning-bible-study-breakfast-58/
LOCATION:Church & Mom’s Diner
ATTACH;FMTTYPE=image/gif:https://www.riverview-church.org/wp-content/uploads/2020/11/Bible-Study.gif
END:VEVENT
BEGIN:VEVENT
DTSTART;VALUE=DATE:20260304
DTEND;VALUE=DATE:20260305
DTSTAMP:20260421T053648
CREATED:20251204T201433Z
LAST-MODIFIED:20260304T222200Z
UID:49298-1772582400-1772668799@www.riverview-church.org
SUMMARY:Wednesday Evening Activities
DESCRIPTION:6:30 p.m. \nYouth Midweek Service \nCollege & Young Adult Devotion \nAdult Bible Study \nWomen’s Bible Study \nPrecepts Study (Zoom) 
URL:https://www.riverview-church.org/event/wednesday-evening-activities-85/
ATTACH;FMTTYPE=image/jpeg:https://www.riverview-church.org/wp-content/uploads/2024/11/boughs_25733ac.jpg
END:VEVENT
BEGIN:VEVENT
DTSTART;TZID=America/Chicago:20260305T123000
DTEND;TZID=America/Chicago:20260305T143000
DTSTAMP:20260421T053648
CREATED:20251205T201157Z
LAST-MODIFIED:20260304T222200Z
UID:49300-1772713800-1772721000@www.riverview-church.org
SUMMARY:ANew Group
DESCRIPTION:
URL:https://www.riverview-church.org/event/anew-group-31/
ATTACH;FMTTYPE=image/jpeg:https://www.riverview-church.org/wp-content/uploads/2022/12/widow.widower.jpg
END:VEVENT
BEGIN:VEVENT
DTSTART;TZID=America/Chicago:20260307T100000
DTEND;TZID=America/Chicago:20260307T123000
DTSTAMP:20260421T053648
CREATED:20251207T201439Z
LAST-MODIFIED:20260306T222045Z
UID:49305-1772877600-1772886600@www.riverview-church.org
SUMMARY:First Saturday Outreach
DESCRIPTION:
URL:https://www.riverview-church.org/event/first-saturday-outreach-6/
LOCATION:Fellowship Hall\, 13201 S Memorial Dr\, Bixby\, OK\, 74008\, United States
ATTACH;FMTTYPE=image/jpeg:https://www.riverview-church.org/wp-content/uploads/2025/07/praise_28430c.jpg
GEO:36.1478777;-79.7287046
X-APPLE-STRUCTURED-LOCATION;VALUE=URI;X-ADDRESS=Fellowship Hall 13201 S Memorial Dr Bixby OK 74008 United States;X-APPLE-RADIUS=500;X-TITLE=13201 S Memorial Dr:geo:-79.7287046,36.1478777
END:VEVENT
END:VCALENDAR