BEGIN:VCALENDAR
VERSION:2.0
PRODID:-//RBC - ECPv6.15.18//NONSGML v1.0//EN
CALSCALE:GREGORIAN
METHOD:PUBLISH
X-WR-CALNAME:RBC
X-ORIGINAL-URL:https://www.riverview-church.org
X-WR-CALDESC:Events for RBC
REFRESH-INTERVAL;VALUE=DURATION:PT1H
X-Robots-Tag:noindex
X-PUBLISHED-TTL:PT1H
BEGIN:VTIMEZONE
TZID:America/Chicago
BEGIN:DAYLIGHT
TZOFFSETFROM:-0600
TZOFFSETTO:-0500
TZNAME:CDT
DTSTART:20250309T080000
END:DAYLIGHT
BEGIN:STANDARD
TZOFFSETFROM:-0500
TZOFFSETTO:-0600
TZNAME:CST
DTSTART:20251102T070000
END:STANDARD
BEGIN:DAYLIGHT
TZOFFSETFROM:-0600
TZOFFSETTO:-0500
TZNAME:CDT
DTSTART:20260308T080000
END:DAYLIGHT
BEGIN:STANDARD
TZOFFSETFROM:-0500
TZOFFSETTO:-0600
TZNAME:CST
DTSTART:20261101T070000
END:STANDARD
BEGIN:DAYLIGHT
TZOFFSETFROM:-0600
TZOFFSETTO:-0500
TZNAME:CDT
DTSTART:20270314T080000
END:DAYLIGHT
BEGIN:STANDARD
TZOFFSETFROM:-0500
TZOFFSETTO:-0600
TZNAME:CST
DTSTART:20271107T070000
END:STANDARD
END:VTIMEZONE
BEGIN:VEVENT
DTSTART;TZID=America/Chicago:20260421T070000
DTEND;TZID=America/Chicago:20260421T090000
DTSTAMP:20260421T063813
CREATED:20260121T213418Z
LAST-MODIFIED:20260420T145106Z
UID:49548-1776754800-1776762000@www.riverview-church.org
SUMMARY:Men's Morning Bible Study & Breakfast
DESCRIPTION:
URL:https://www.riverview-church.org/event/mens-morning-bible-study-breakfast-77/
LOCATION:Church & Mom’s Diner
ATTACH;FMTTYPE=image/jpeg:https://www.riverview-church.org/wp-content/uploads/2025/01/bible_28656bc-scaled.jpg
END:VEVENT
BEGIN:VEVENT
DTSTART;VALUE=DATE:20260422
DTEND;VALUE=DATE:20260423
DTSTAMP:20260421T063813
CREATED:20260122T212525Z
LAST-MODIFIED:20260420T145106Z
UID:49550-1776816000-1776902399@www.riverview-church.org
SUMMARY:Wednesday Evening Activities
DESCRIPTION:6:30 p.m. Precepts study on Zoom (contact Cheryl Laflin for more information) 918-688-0257\n6:30 p.m. Youth / Midweek Service\n6:30 p.m. Wednesday Evening Bible Study\n6:30 p.m. AWANA Clubs\n6:30 p.m. College Age / Young Adult Devotion & Fellowship
URL:https://www.riverview-church.org/event/wednesday-evening-activities-90/
ATTACH;FMTTYPE=image/jpeg:https://www.riverview-church.org/wp-content/uploads/2024/12/clouds_28895apc-1.jpg
END:VEVENT
BEGIN:VEVENT
DTSTART;TZID=America/Chicago:20260428T070000
DTEND;TZID=America/Chicago:20260428T090000
DTSTAMP:20260421T063813
CREATED:20260128T213447Z
LAST-MODIFIED:20260420T145106Z
UID:49563-1777359600-1777366800@www.riverview-church.org
SUMMARY:Men's Morning Bible Study & Breakfast
DESCRIPTION:
URL:https://www.riverview-church.org/event/mens-morning-bible-study-breakfast-78/
LOCATION:Church & Mom’s Diner
ATTACH;FMTTYPE=image/jpeg:https://www.riverview-church.org/wp-content/uploads/2025/06/bible_27406ac-scaled.jpg
END:VEVENT
BEGIN:VEVENT
DTSTART;VALUE=DATE:20260429
DTEND;VALUE=DATE:20260430
DTSTAMP:20260421T063813
CREATED:20260129T215005Z
LAST-MODIFIED:20260420T145106Z
UID:49565-1777420800-1777507199@www.riverview-church.org
SUMMARY:Wednesday Evening Activities
DESCRIPTION:6:30 p.m. Precepts study on Zoom (contact Cheryl Laflin for more information) 918-688-0257\n6:30 p.m. Youth / Midweek Service\n6:30 p.m. Wednesday Evening Bible Study\n6:30 p.m. AWANA Clubs\n6:30 p.m.     College Age / Young Adult Devotion & Fellowship
URL:https://www.riverview-church.org/event/wednesday-evening-activities-91/
ATTACH;FMTTYPE=image/jpeg:https://www.riverview-church.org/wp-content/uploads/2024/12/clouds_28895apc-1.jpg
END:VEVENT
BEGIN:VEVENT
DTSTART;TZID=America/Chicago:20260502T100000
DTEND;TZID=America/Chicago:20260502T123000
DTSTAMP:20260421T063813
CREATED:20260201T214011Z
LAST-MODIFIED:20260420T145106Z
UID:49570-1777716000-1777725000@www.riverview-church.org
SUMMARY:First Saturday Outreach
DESCRIPTION:
URL:https://www.riverview-church.org/event/first-saturday-outreach-8/
LOCATION:Fellowship Hall\, 13201 S Memorial Dr\, Bixby\, OK\, 74008\, United States
ATTACH;FMTTYPE=image/jpeg:https://www.riverview-church.org/wp-content/uploads/2025/07/praise_28430c.jpg
GEO:36.1478777;-79.7287046
X-APPLE-STRUCTURED-LOCATION;VALUE=URI;X-ADDRESS=Fellowship Hall 13201 S Memorial Dr Bixby OK 74008 United States;X-APPLE-RADIUS=500;X-TITLE=13201 S Memorial Dr:geo:-79.7287046,36.1478777
END:VEVENT
BEGIN:VEVENT
DTSTART;TZID=America/Chicago:20260503T103000
DTEND;TZID=America/Chicago:20260503T120000
DTSTAMP:20260421T063813
CREATED:20260202T214547Z
LAST-MODIFIED:20260420T145120Z
UID:49575-1777804200-1777809600@www.riverview-church.org
SUMMARY:Kids' Day
DESCRIPTION:
URL:https://www.riverview-church.org/event/kids-choir-musical/
ATTACH;FMTTYPE=image/gif:https://www.riverview-church.org/wp-content/uploads/2022/03/choir_5487a.gif
END:VEVENT
BEGIN:VEVENT
DTSTART;VALUE=DATE:20260506
DTEND;VALUE=DATE:20260507
DTSTAMP:20260421T063813
CREATED:20260205T213816Z
LAST-MODIFIED:20260420T145120Z
UID:49583-1778025600-1778111999@www.riverview-church.org
SUMMARY:Wednesday Evening Activities
DESCRIPTION:6:30 p.m. Precepts study on Zoom (contact Cheryl Laflin for more information) 918-688-0257\n6:30 p.m. Youth / Midweek Service\n6:30 p.m. Wednesday Evening Bible Study\n6:30 p.m. AWANA Clubs\n6:30 p.m.     College Age / Young Adult Devotion & Fellowship
URL:https://www.riverview-church.org/event/wednesday-evening-activities-92/
ATTACH;FMTTYPE=image/jpeg:https://www.riverview-church.org/wp-content/uploads/2024/12/clouds_28895apc-1.jpg
END:VEVENT
BEGIN:VEVENT
DTSTART;TZID=America/Chicago:20260507T123000
DTEND;TZID=America/Chicago:20260507T143000
DTSTAMP:20260421T063813
CREATED:20260206T215401Z
LAST-MODIFIED:20260420T145120Z
UID:49585-1778157000-1778164200@www.riverview-church.org
SUMMARY:ANew Group
DESCRIPTION:
URL:https://www.riverview-church.org/event/anew-group/
ATTACH;FMTTYPE=image/jpeg:https://www.riverview-church.org/wp-content/uploads/2022/12/widow.widower.jpg
END:VEVENT
BEGIN:VEVENT
DTSTART;TZID=America/Chicago:20260508T183000
DTEND;TZID=America/Chicago:20260508T200000
DTSTAMP:20260421T063813
CREATED:20260223T215211Z
LAST-MODIFIED:20260420T145120Z
UID:49619-1778265000-1778270400@www.riverview-church.org
SUMMARY:Talent Show
DESCRIPTION:
URL:https://www.riverview-church.org/event/talent-show-2/
LOCATION:Sanctuary
ATTACH;FMTTYPE=image/gif:https://www.riverview-church.org/wp-content/uploads/2026/02/guitar_12779ac.gif
END:VEVENT
BEGIN:VEVENT
DTSTART;TZID=America/Chicago:20260510T093000
DTEND;TZID=America/Chicago:20260510T103000
DTSTAMP:20260421T063813
CREATED:20260209T215650Z
LAST-MODIFIED:20260420T145120Z
UID:49589-1778405400-1778409000@www.riverview-church.org
SUMMARY:Muffins With Mom
DESCRIPTION:
URL:https://www.riverview-church.org/event/muffins-with-mom-2/
ATTACH;FMTTYPE=image/jpeg:https://www.riverview-church.org/wp-content/uploads/2026/02/muffins_18421c.jpg
END:VEVENT
BEGIN:VEVENT
DTSTART;TZID=America/Chicago:20260510T163000
DTEND;TZID=America/Chicago:20260510T173000
DTSTAMP:20260421T063813
CREATED:20260209T215650Z
LAST-MODIFIED:20260420T145123Z
UID:49590-1778430600-1778434200@www.riverview-church.org
SUMMARY:Deacons Meeting
DESCRIPTION:
URL:https://www.riverview-church.org/event/deacons-meeting-21/
ATTACH;FMTTYPE=image/jpeg:https://www.riverview-church.org/wp-content/uploads/2025/10/Deacons.jpg
END:VEVENT
BEGIN:VEVENT
DTSTART;TZID=America/Chicago:20260511T183000
DTEND;TZID=America/Chicago:20260511T203000
DTSTAMP:20260421T063813
CREATED:20260210T215429Z
LAST-MODIFIED:20260420T145123Z
UID:49593-1778524200-1778531400@www.riverview-church.org
SUMMARY:Committee Meetings
DESCRIPTION:
URL:https://www.riverview-church.org/event/committee-meetings-17/
ATTACH;FMTTYPE=image/jpeg:https://www.riverview-church.org/wp-content/uploads/2024/08/Committee-Meetings.jpg
END:VEVENT
BEGIN:VEVENT
DTSTART;VALUE=DATE:20260513
DTEND;VALUE=DATE:20260514
DTSTAMP:20260421T063813
CREATED:20260212T215524Z
LAST-MODIFIED:20260420T145123Z
UID:49597-1778630400-1778716799@www.riverview-church.org
SUMMARY:Next Gen Celebration
DESCRIPTION:
URL:https://www.riverview-church.org/event/next-gen-celebration/
LOCATION:Sanctuary & FH
END:VEVENT
BEGIN:VEVENT
DTSTART;VALUE=DATE:20260513
DTEND;VALUE=DATE:20260514
DTSTAMP:20260421T063813
CREATED:20260212T215524Z
LAST-MODIFIED:20260420T145123Z
UID:49598-1778630400-1778716799@www.riverview-church.org
SUMMARY:Wednesday Evening Activities
DESCRIPTION:6:30 p.m. Precepts study on Zoom (contact Cheryl Laflin for more information) 918-688-0257\n6:30 p.m. Youth / Midweek Service\n6:30 p.m. Wednesday Evening Bible Study\n6:30 p.m. AWANA Clubs\n6:30 p.m. College Age / Young Adult Devotion & Fellowship
URL:https://www.riverview-church.org/event/wednesday-evening-activities-93/
ATTACH;FMTTYPE=image/jpeg:https://www.riverview-church.org/wp-content/uploads/2024/12/clouds_28895apc-1.jpg
END:VEVENT
BEGIN:VEVENT
DTSTART;TZID=America/Chicago:20260514T180000
DTEND;TZID=America/Chicago:20260514T200000
DTSTAMP:20260421T063813
CREATED:20260330T215352Z
LAST-MODIFIED:20260420T145123Z
UID:49711-1778781600-1778788800@www.riverview-church.org
SUMMARY:Rockers
DESCRIPTION:
URL:https://www.riverview-church.org/event/rockers-16/
ATTACH;FMTTYPE=image/jpeg:https://www.riverview-church.org/wp-content/uploads/2022/05/pexels-erik-mclean-7561182-scaled.jpg
END:VEVENT
BEGIN:VEVENT
DTSTART;VALUE=DATE:20260517
DTEND;VALUE=DATE:20260518
DTSTAMP:20260421T063813
CREATED:20260216T215531Z
LAST-MODIFIED:20260420T145133Z
UID:49605-1778976000-1779062399@www.riverview-church.org
SUMMARY:Senior Sunday
DESCRIPTION:
URL:https://www.riverview-church.org/event/senior-sunday-2/
LOCATION:Sanctuary & FH
ATTACH;FMTTYPE=image/jpeg:https://www.riverview-church.org/wp-content/uploads/2023/02/001509-0009-006127.jpg
END:VEVENT
BEGIN:VEVENT
DTSTART;VALUE=DATE:20260523
DTEND;VALUE=DATE:20260524
DTSTAMP:20260421T063813
CREATED:20260222T215526Z
LAST-MODIFIED:20260420T145133Z
UID:49615-1779494400-1779580799@www.riverview-church.org
SUMMARY:Mission Omaha
DESCRIPTION:Youth Event\nMay 23rd – 30th
URL:https://www.riverview-church.org/event/mission-omaha/
END:VEVENT
BEGIN:VEVENT
DTSTART;VALUE=DATE:20260525
DTEND;VALUE=DATE:20260526
DTSTAMP:20260421T063813
CREATED:20260224T220417Z
LAST-MODIFIED:20260420T145133Z
UID:49621-1779667200-1779753599@www.riverview-church.org
SUMMARY:Memorial Day Office Closed
DESCRIPTION:
URL:https://www.riverview-church.org/event/memorial-day-office-closed/
ATTACH;FMTTYPE=image/jpeg:https://www.riverview-church.org/wp-content/uploads/2019/03/2014-Memorial-Day-Featured.jpg
END:VEVENT
BEGIN:VEVENT
DTSTART;TZID=America/Chicago:20260603T080000
DTEND;TZID=America/Chicago:20260603T083000
DTSTAMP:20260421T063813
CREATED:20260305T222823Z
LAST-MODIFIED:20260420T145134Z
UID:49639-1780473600-1780475400@www.riverview-church.org
SUMMARY:SDC Trip
DESCRIPTION:
URL:https://www.riverview-church.org/event/sdc-trip/
END:VEVENT
BEGIN:VEVENT
DTSTART;TZID=America/Chicago:20260604T123000
DTEND;TZID=America/Chicago:20260604T143000
DTSTAMP:20260421T063813
CREATED:20260306T222435Z
LAST-MODIFIED:20260420T145134Z
UID:49641-1780576200-1780583400@www.riverview-church.org
SUMMARY:ANew Group
DESCRIPTION:
URL:https://www.riverview-church.org/event/anew-group-2/
ATTACH;FMTTYPE=image/jpeg:https://www.riverview-church.org/wp-content/uploads/2022/12/widow.widower.jpg
END:VEVENT
BEGIN:VEVENT
DTSTART;TZID=America/Chicago:20260606T100000
DTEND;TZID=America/Chicago:20260606T123000
DTSTAMP:20260421T063813
CREATED:20260308T222554Z
LAST-MODIFIED:20260420T145134Z
UID:49644-1780740000-1780749000@www.riverview-church.org
SUMMARY:First Saturday Outreach
DESCRIPTION:Childcare provided
URL:https://www.riverview-church.org/event/first-saturday-outreach-9/
LOCATION:Fellowship Hall\, 13201 S Memorial Dr\, Bixby\, OK\, 74008\, United States
ATTACH;FMTTYPE=image/jpeg:https://www.riverview-church.org/wp-content/uploads/2025/07/praise_28430c.jpg
GEO:36.1478777;-79.7287046
X-APPLE-STRUCTURED-LOCATION;VALUE=URI;X-ADDRESS=Fellowship Hall 13201 S Memorial Dr Bixby OK 74008 United States;X-APPLE-RADIUS=500;X-TITLE=13201 S Memorial Dr:geo:-79.7287046,36.1478777
END:VEVENT
BEGIN:VEVENT
DTSTART;TZID=America/Chicago:20260608T090000
DTEND;TZID=America/Chicago:20260608T120000
DTSTAMP:20260421T063813
CREATED:20260310T222558Z
LAST-MODIFIED:20260420T145134Z
UID:49651-1780909200-1780920000@www.riverview-church.org
SUMMARY:VBS Week
DESCRIPTION:June 8th – 12th
URL:https://www.riverview-church.org/event/vbs-week/
ATTACH;FMTTYPE=image/png:https://www.riverview-church.org/wp-content/uploads/2026/02/VBS-Website.png
END:VEVENT
BEGIN:VEVENT
DTSTART;TZID=America/Chicago:20260608T183000
DTEND;TZID=America/Chicago:20260608T203000
DTSTAMP:20260421T063813
CREATED:20260310T222558Z
LAST-MODIFIED:20260420T145134Z
UID:49652-1780943400-1780950600@www.riverview-church.org
SUMMARY:Committee Meetings
DESCRIPTION:
URL:https://www.riverview-church.org/event/committee-meetings-21/
ATTACH;FMTTYPE=image/jpeg:https://www.riverview-church.org/wp-content/uploads/2024/08/Committee-Meetings.jpg
END:VEVENT
BEGIN:VEVENT
DTSTART;TZID=America/Chicago:20260611T180000
DTEND;TZID=America/Chicago:20260611T200000
DTSTAMP:20260421T063813
CREATED:20260330T215419Z
LAST-MODIFIED:20260420T145134Z
UID:49712-1781200800-1781208000@www.riverview-church.org
SUMMARY:Rockers
DESCRIPTION:
URL:https://www.riverview-church.org/event/rockers-17/
ATTACH;FMTTYPE=image/jpeg:https://www.riverview-church.org/wp-content/uploads/2022/05/pexels-erik-mclean-7561182-scaled.jpg
END:VEVENT
BEGIN:VEVENT
DTSTART;TZID=America/Chicago:20260614T163000
DTEND;TZID=America/Chicago:20260614T173000
DTSTAMP:20260421T063813
CREATED:20260316T224109Z
LAST-MODIFIED:20260420T145134Z
UID:49665-1781454600-1781458200@www.riverview-church.org
SUMMARY:Deacons Meeting
DESCRIPTION:
URL:https://www.riverview-church.org/event/deacons-meeting-22/
ATTACH;FMTTYPE=image/jpeg:https://www.riverview-church.org/wp-content/uploads/2025/10/Deacons.jpg
END:VEVENT
BEGIN:VEVENT
DTSTART;VALUE=DATE:20260615
DTEND;VALUE=DATE:20260616
DTSTAMP:20260421T063813
CREATED:20260317T223916Z
LAST-MODIFIED:20260420T145144Z
UID:49667-1781481600-1781567999@www.riverview-church.org
SUMMARY:Youth Super Summer Week
DESCRIPTION:June 15th – 19th
URL:https://www.riverview-church.org/event/youth-super-summer-week/
END:VEVENT
BEGIN:VEVENT
DTSTART;TZID=America/Chicago:20260624T080000
DTEND;TZID=America/Chicago:20260624T083000
DTSTAMP:20260421T063813
CREATED:20260326T215413Z
LAST-MODIFIED:20260420T145144Z
UID:49702-1782288000-1782289800@www.riverview-church.org
SUMMARY:Super Summer Students' Trip
DESCRIPTION:
URL:https://www.riverview-church.org/event/super-summer-students-trip/
END:VEVENT
BEGIN:VEVENT
DTSTART;TZID=America/Chicago:20260626T080000
DTEND;TZID=America/Chicago:20260626T083000
DTSTAMP:20260421T063813
CREATED:20260328T215203Z
LAST-MODIFIED:20260420T145144Z
UID:49705-1782460800-1782462600@www.riverview-church.org
SUMMARY:Youth Camping Trip
DESCRIPTION:
URL:https://www.riverview-church.org/event/youth-camping-trip-4/
END:VEVENT
BEGIN:VEVENT
DTSTART;TZID=America/Chicago:20260627T080000
DTEND;TZID=America/Chicago:20260627T083000
DTSTAMP:20260421T063813
CREATED:20260329T215623Z
LAST-MODIFIED:20260420T145145Z
UID:49708-1782547200-1782549000@www.riverview-church.org
SUMMARY:Youth Camping Trip
DESCRIPTION:
URL:https://www.riverview-church.org/event/youth-camping-trip-5/
END:VEVENT
BEGIN:VEVENT
DTSTART;TZID=America/Chicago:20260702T123000
DTEND;TZID=America/Chicago:20260702T143000
DTSTAMP:20260421T063813
CREATED:20260403T215531Z
LAST-MODIFIED:20260420T145145Z
UID:49724-1782995400-1783002600@www.riverview-church.org
SUMMARY:ANew Group
DESCRIPTION:
URL:https://www.riverview-church.org/event/anew-group-3/
END:VEVENT
END:VCALENDAR