BEGIN:VCALENDAR
VERSION:2.0
PRODID:-//RBC - ECPv6.15.18//NONSGML v1.0//EN
CALSCALE:GREGORIAN
METHOD:PUBLISH
X-ORIGINAL-URL:https://www.riverview-church.org
X-WR-CALDESC:Events for RBC
REFRESH-INTERVAL;VALUE=DURATION:PT1H
X-Robots-Tag:noindex
X-PUBLISHED-TTL:PT1H
BEGIN:VTIMEZONE
TZID:America/Chicago
BEGIN:DAYLIGHT
TZOFFSETFROM:-0600
TZOFFSETTO:-0500
TZNAME:CDT
DTSTART:20240310T080000
END:DAYLIGHT
BEGIN:STANDARD
TZOFFSETFROM:-0500
TZOFFSETTO:-0600
TZNAME:CST
DTSTART:20241103T070000
END:STANDARD
BEGIN:DAYLIGHT
TZOFFSETFROM:-0600
TZOFFSETTO:-0500
TZNAME:CDT
DTSTART:20250309T080000
END:DAYLIGHT
BEGIN:STANDARD
TZOFFSETFROM:-0500
TZOFFSETTO:-0600
TZNAME:CST
DTSTART:20251102T070000
END:STANDARD
BEGIN:DAYLIGHT
TZOFFSETFROM:-0600
TZOFFSETTO:-0500
TZNAME:CDT
DTSTART:20260308T080000
END:DAYLIGHT
BEGIN:STANDARD
TZOFFSETFROM:-0500
TZOFFSETTO:-0600
TZNAME:CST
DTSTART:20261101T070000
END:STANDARD
END:VTIMEZONE
BEGIN:VEVENT
DTSTART;TZID=America/Chicago:20250525T173000
DTEND;TZID=America/Chicago:20250525T183000
DTSTAMP:20260421T074423
CREATED:20250225T000803Z
LAST-MODIFIED:20250525T143625Z
UID:48360-1748194200-1748197800@www.riverview-church.org
SUMMARY:Student Band Worship Practice
DESCRIPTION:
URL:https://www.riverview-church.org/event/student-band-worship-practice-18/
LOCATION:FH Student Center
END:VEVENT
BEGIN:VEVENT
DTSTART;TZID=America/Chicago:20250527T063000
DTEND;TZID=America/Chicago:20250527T073000
DTSTAMP:20260421T074423
CREATED:20250226T235517Z
LAST-MODIFIED:20250526T143607Z
UID:48365-1748327400-1748331000@www.riverview-church.org
SUMMARY:Men's Morning Bible Study & Breakfast
DESCRIPTION:
URL:https://www.riverview-church.org/event/mens-morning-bible-study-breakfast-18/
LOCATION:Church & Mom’s Diner
END:VEVENT
BEGIN:VEVENT
DTSTART;TZID=America/Chicago:20250528T180000
DTEND;TZID=America/Chicago:20250528T210000
DTSTAMP:20260421T074423
CREATED:20250521T143924Z
LAST-MODIFIED:20250528T181559Z
UID:48615-1748455200-1748466000@www.riverview-church.org
SUMMARY:Youth Pool Party
DESCRIPTION:
URL:https://www.riverview-church.org/event/youth-pool-party/
LOCATION:at the Ezells home
ATTACH;FMTTYPE=image/jpeg:https://www.riverview-church.org/wp-content/uploads/2018/11/Youth.jpg
END:VEVENT
BEGIN:VEVENT
DTSTART;TZID=America/Chicago:20250528T183000
DTEND;TZID=America/Chicago:20250528T210000
DTSTAMP:20260421T074423
CREATED:20250228T120751Z
LAST-MODIFIED:20250528T182743Z
UID:48367-1748457000-1748466000@www.riverview-church.org
SUMMARY:Wednesday Evening Activities
DESCRIPTION:All activities below resume this fall \n6:30 p.m. Wednesday Evening Bible Study\nYouth Service\nAWANA Clubs\nPrecepts Study on ZOOM\nBetter Man Class
URL:https://www.riverview-church.org/event/wednesday-evening-activities-59/
ATTACH;FMTTYPE=image/gif:https://www.riverview-church.org/wp-content/uploads/2023/02/Wednesday-Activities.gif
END:VEVENT
BEGIN:VEVENT
DTSTART;TZID=America/Chicago:20250601T083000
DTEND;TZID=America/Chicago:20250601T120000
DTSTAMP:20260421T074423
CREATED:20250303T120651Z
LAST-MODIFIED:20250601T143725Z
UID:48371-1748766600-1748779200@www.riverview-church.org
SUMMARY:Sunday Morning Events
DESCRIPTION:These events occur each Sunday.\n8:30 a.m. Traditional Service\n9:30 a.m. Sunday School/Bible Study\n10:45 a.m. Blended Worship This service will also be a live broadcast.
URL:https://www.riverview-church.org/event/sunday-morning-events-123/
ATTACH;FMTTYPE=image/jpeg:https://www.riverview-church.org/wp-content/uploads/2024/02/branches_27353ac-1.jpg
END:VEVENT
BEGIN:VEVENT
DTSTART;TZID=America/Chicago:20250601T150000
DTEND;TZID=America/Chicago:20250601T170000
DTSTAMP:20260421T074423
CREATED:20250303T120651Z
LAST-MODIFIED:20250601T143726Z
UID:48372-1748790000-1748797200@www.riverview-church.org
SUMMARY:Backyard VBS
DESCRIPTION:
URL:https://www.riverview-church.org/event/backyard-vbs/
ATTACH;FMTTYPE=image/jpeg:https://www.riverview-church.org/wp-content/uploads/2025/03/houses_21047c-scaled.jpg
END:VEVENT
BEGIN:VEVENT
DTSTART;TZID=America/Chicago:20250601T163000
DTEND;TZID=America/Chicago:20250601T190000
DTSTAMP:20260421T074423
CREATED:20250303T120654Z
LAST-MODIFIED:20250601T143726Z
UID:48374-1748795400-1748804400@www.riverview-church.org
SUMMARY:Sunday Evening Events
DESCRIPTION:4:30 p.m. Precepts\n5:00 p.m. Celebration Kids Choir\,Orchestra Rehearsal\, Gideon\, Better Man Class \, Ladies Bible Study\n5:30 p.m. Student Band Worship Practice \n  \nIN RED RESUMES THIS FALL 
URL:https://www.riverview-church.org/event/sunday-evening-events-10/
ATTACH;FMTTYPE=image/jpeg:https://www.riverview-church.org/wp-content/uploads/2018/10/Sunday-Evening.jpg
END:VEVENT
BEGIN:VEVENT
DTSTART;TZID=America/Chicago:20250601T173000
DTEND;TZID=America/Chicago:20250601T183000
DTSTAMP:20260421T074423
CREATED:20250303T120654Z
LAST-MODIFIED:20250601T143726Z
UID:48373-1748799000-1748802600@www.riverview-church.org
SUMMARY:Student Band Worship Practice
DESCRIPTION:
URL:https://www.riverview-church.org/event/student-band-worship-practice-19/
LOCATION:FH Student Center
ATTACH;FMTTYPE=image/jpeg:https://www.riverview-church.org/wp-content/uploads/2019/06/william-iven-0lQFV7CeghM-unsplash-scaled.jpg
END:VEVENT
BEGIN:VEVENT
DTSTART;TZID=America/Chicago:20250602T170000
DTEND;TZID=America/Chicago:20250602T193000
DTSTAMP:20260421T074423
CREATED:20250304T120908Z
LAST-MODIFIED:20250602T143654Z
UID:48376-1748883600-1748892600@www.riverview-church.org
SUMMARY:Backyard VBS
DESCRIPTION:
URL:https://www.riverview-church.org/event/backyard-vbs-2/
ATTACH;FMTTYPE=image/jpeg:https://www.riverview-church.org/wp-content/uploads/2025/03/houses_21047c-scaled.jpg
END:VEVENT
BEGIN:VEVENT
DTSTART;TZID=America/Chicago:20250603T063000
DTEND;TZID=America/Chicago:20250603T073000
DTSTAMP:20260421T074423
CREATED:20250305T120546Z
LAST-MODIFIED:20250602T143655Z
UID:48378-1748932200-1748935800@www.riverview-church.org
SUMMARY:Men's Morning Bible Study & Breakfast
DESCRIPTION:
URL:https://www.riverview-church.org/event/mens-morning-bible-study-breakfast-19/
LOCATION:Church & Mom’s Diner
ATTACH;FMTTYPE=image/jpeg:https://www.riverview-church.org/wp-content/uploads/2025/01/bible_28656bc-scaled.jpg
END:VEVENT
BEGIN:VEVENT
DTSTART;TZID=America/Chicago:20250603T170000
DTEND;TZID=America/Chicago:20250603T193000
DTSTAMP:20260421T074423
CREATED:20250305T120549Z
LAST-MODIFIED:20250603T143842Z
UID:48379-1748970000-1748979000@www.riverview-church.org
SUMMARY:Backyard VBS
DESCRIPTION:
URL:https://www.riverview-church.org/event/backyard-vbs-3/
ATTACH;FMTTYPE=image/jpeg:https://www.riverview-church.org/wp-content/uploads/2025/03/houses_21047c-scaled.jpg
END:VEVENT
BEGIN:VEVENT
DTSTART;TZID=America/Chicago:20250604T170000
DTEND;TZID=America/Chicago:20250604T193000
DTSTAMP:20260421T074423
CREATED:20250306T120727Z
LAST-MODIFIED:20250604T143653Z
UID:48382-1749056400-1749065400@www.riverview-church.org
SUMMARY:Backyard VBS
DESCRIPTION:
URL:https://www.riverview-church.org/event/backyard-vbs-4/
ATTACH;FMTTYPE=image/jpeg:https://www.riverview-church.org/wp-content/uploads/2025/03/houses_21047c-scaled.jpg
END:VEVENT
BEGIN:VEVENT
DTSTART;TZID=America/Chicago:20250604T183000
DTEND;TZID=America/Chicago:20250604T210000
DTSTAMP:20260421T074423
CREATED:20250306T120726Z
LAST-MODIFIED:20250604T143653Z
UID:48381-1749061800-1749070800@www.riverview-church.org
SUMMARY:Wednesday Evening Activities
DESCRIPTION:  \nAll activities below resume this fall \n6:30 p.m. Wednesday Evening Bible Study\nYouth Service\nAWANA Clubs\nPrecepts Study on ZOOM\nBetter Man Class
URL:https://www.riverview-church.org/event/wednesday-evening-activities-60/
ATTACH;FMTTYPE=image/gif:https://www.riverview-church.org/wp-content/uploads/2023/02/Wednesday-Activities.gif
END:VEVENT
BEGIN:VEVENT
DTSTART;TZID=America/Chicago:20250605T170000
DTEND;TZID=America/Chicago:20250605T193000
DTSTAMP:20260421T074423
CREATED:20250307T120759Z
LAST-MODIFIED:20250605T143806Z
UID:48385-1749142800-1749151800@www.riverview-church.org
SUMMARY:Backyard VBS
DESCRIPTION:
URL:https://www.riverview-church.org/event/backyard-vbs-5/
ATTACH;FMTTYPE=image/jpeg:https://www.riverview-church.org/wp-content/uploads/2025/03/houses_21047c-scaled.jpg
END:VEVENT
BEGIN:VEVENT
DTSTART;TZID=America/Chicago:20250606T110000
DTEND;TZID=America/Chicago:20250606T180000
DTSTAMP:20260421T074423
CREATED:20250401T125331Z
LAST-MODIFIED:20250606T143656Z
UID:48466-1749207600-1749232800@www.riverview-church.org
SUMMARY:Youth Car Wash Mission Trip Fundraiser
DESCRIPTION:
URL:https://www.riverview-church.org/event/youth-car-wash-mission-trip-fundraiser/
LOCATION:Parking Lot Front area
ATTACH;FMTTYPE=image/jpeg:https://www.riverview-church.org/wp-content/uploads/2019/02/Car-Wash-Person-scaled.jpg
END:VEVENT
BEGIN:VEVENT
DTSTART;TZID=America/Chicago:20250608T083000
DTEND;TZID=America/Chicago:20250608T120000
DTSTAMP:20260421T074423
CREATED:20250310T123225Z
LAST-MODIFIED:20250602T143710Z
UID:48390-1749371400-1749384000@www.riverview-church.org
SUMMARY:Sunday Morning Events
DESCRIPTION:These events occur each Sunday.\n8:30 a.m. Traditional Service\n9:30 a.m. Sunday School/Bible Study\n10:45 a.m. Blended Worship This service will also be a live broadcast.
URL:https://www.riverview-church.org/event/sunday-morning-events-124/
ATTACH;FMTTYPE=image/jpeg:https://www.riverview-church.org/wp-content/uploads/2024/02/branches_27353ac-1.jpg
END:VEVENT
BEGIN:VEVENT
DTSTART;TZID=America/Chicago:20250608T093000
DTEND;TZID=America/Chicago:20250608T130000
DTSTAMP:20260421T074423
CREATED:20250603T143845Z
LAST-MODIFIED:20250608T143818Z
UID:48728-1749375000-1749387600@www.riverview-church.org
SUMMARY:Sunday Morning Events
DESCRIPTION:These events occur each Sunday.\n8:30 a.m.             Traditional Service\n9:30 a.m.             Sunday School/Bible Study\n10:45 a.m.           Blended Worship This service will also be a live broadcast.
URL:https://www.riverview-church.org/event/sunday-morning-events-199/
END:VEVENT
BEGIN:VEVENT
DTSTART;TZID=America/Chicago:20250608T163000
DTEND;TZID=America/Chicago:20250608T173000
DTSTAMP:20260421T074423
CREATED:20250310T123247Z
LAST-MODIFIED:20250528T190822Z
UID:48391-1749400200-1749403800@www.riverview-church.org
SUMMARY:Deacons Meeting
DESCRIPTION:
URL:https://www.riverview-church.org/event/deacons-meeting-15/
ATTACH;FMTTYPE=image/jpeg:https://www.riverview-church.org/wp-content/uploads/2019/10/men-pray.jpg
END:VEVENT
BEGIN:VEVENT
DTSTART;TZID=America/Chicago:20250608T163000
DTEND;TZID=America/Chicago:20250608T190000
DTSTAMP:20260421T074423
CREATED:20250310T123247Z
LAST-MODIFIED:20250602T143723Z
UID:48392-1749400200-1749409200@www.riverview-church.org
SUMMARY:Sunday Evening Events
DESCRIPTION:4:30 p.m. Precepts\n5:00 p.m. Celebration Kids Choir\, Worship Band\, Orchestra Rehearsal\, Gideon\, Better Man Class \, Ladies Bible Study\n5:30 p.m. Student Band Worship Practice\n6:30 p.m. Celebration Worship Choir\, Youth Lead Team
URL:https://www.riverview-church.org/event/sunday-evening-events-11/
ATTACH;FMTTYPE=image/jpeg:https://www.riverview-church.org/wp-content/uploads/2018/10/Sunday-Evening.jpg
END:VEVENT
BEGIN:VEVENT
DTSTART;TZID=America/Chicago:20250608T173000
DTEND;TZID=America/Chicago:20250608T183000
DTSTAMP:20260421T074423
CREATED:20250310T123247Z
LAST-MODIFIED:20250602T143723Z
UID:48393-1749403800-1749407400@www.riverview-church.org
SUMMARY:Student Band Worship Practice
DESCRIPTION:
URL:https://www.riverview-church.org/event/student-band-worship-practice-20/
LOCATION:FH Student Center
ATTACH;FMTTYPE=image/jpeg:https://www.riverview-church.org/wp-content/uploads/2019/06/william-iven-0lQFV7CeghM-unsplash-scaled.jpg
END:VEVENT
BEGIN:VEVENT
DTSTART;TZID=America/Chicago:20250608T173000
DTEND;TZID=America/Chicago:20250608T200000
DTSTAMP:20260421T074423
CREATED:20250603T143845Z
LAST-MODIFIED:20250608T143819Z
UID:48729-1749403800-1749412800@www.riverview-church.org
SUMMARY:Sunday Evening Events
DESCRIPTION:4:30 p.m. Precepts\n5:00 p.m. Celebration Kids Choir\, Worship Band\, Orchestra Rehearsal\, Gideon\, Better Man Class \, Ladies Bible Study\n5:30 p.m. Student Band Worship Practice\n6:30 p.m. Celebration Worship Choir\, Youth Lead Team
URL:https://www.riverview-church.org/event/sunday-evening-events-211/
END:VEVENT
BEGIN:VEVENT
DTSTART;TZID=America/Chicago:20250608T183000
DTEND;TZID=America/Chicago:20250608T193000
DTSTAMP:20260421T074423
CREATED:20250603T143852Z
LAST-MODIFIED:20250608T143819Z
UID:48730-1749407400-1749411000@www.riverview-church.org
SUMMARY:Student Band Worship Practice
DESCRIPTION:
URL:https://www.riverview-church.org/event/student-band-worship-practice-33/
LOCATION:FH Student Center
END:VEVENT
BEGIN:VEVENT
DTSTART;VALUE=DATE:20250609
DTEND;VALUE=DATE:20250610
DTSTAMP:20260421T074423
CREATED:20250311T122435Z
LAST-MODIFIED:20250609T143717Z
UID:48395-1749427200-1749513599@www.riverview-church.org
SUMMARY:Committee Meetings
DESCRIPTION:
URL:https://www.riverview-church.org/event/committee-meetings-6/
ATTACH;FMTTYPE=image/jpeg:https://www.riverview-church.org/wp-content/uploads/2024/08/Committee-Meetings.jpg
END:VEVENT
BEGIN:VEVENT
DTSTART;TZID=America/Chicago:20250610T063000
DTEND;TZID=America/Chicago:20250610T073000
DTSTAMP:20260421T074423
CREATED:20250312T122622Z
LAST-MODIFIED:20250609T143717Z
UID:48397-1749537000-1749540600@www.riverview-church.org
SUMMARY:Men's Morning Bible Study & Breakfast
DESCRIPTION:
URL:https://www.riverview-church.org/event/mens-morning-bible-study-breakfast-20/
LOCATION:Church & Mom’s Diner
ATTACH;FMTTYPE=image/jpeg:https://www.riverview-church.org/wp-content/uploads/2025/01/bible_28656bc-scaled.jpg
END:VEVENT
BEGIN:VEVENT
DTSTART;TZID=America/Chicago:20250611T183000
DTEND;TZID=America/Chicago:20250611T210000
DTSTAMP:20260421T074423
CREATED:20250313T122902Z
LAST-MODIFIED:20250611T143655Z
UID:48399-1749666600-1749675600@www.riverview-church.org
SUMMARY:Wednesday Evening Activities
DESCRIPTION:All activities below resume this fall \n6:30 p.m. Wednesday Evening Bible Study\nYouth Service\nAWANA Clubs\nPrecepts Study on ZOOM\nBetter Man Class
URL:https://www.riverview-church.org/event/wednesday-evening-activities-61/
ATTACH;FMTTYPE=image/gif:https://www.riverview-church.org/wp-content/uploads/2023/02/Wednesday-Activities.gif
END:VEVENT
BEGIN:VEVENT
DTSTART;VALUE=DATE:20250612
DTEND;VALUE=DATE:20250613
DTSTAMP:20260421T074423
CREATED:20250423T132230Z
LAST-MODIFIED:20250612T143926Z
UID:48543-1749686400-1749772799@www.riverview-church.org
SUMMARY:Youth Silver Dollar City Trip
DESCRIPTION:
URL:https://www.riverview-church.org/event/youth-silver-dollar-city-trip/
ATTACH;FMTTYPE=image/jpeg:https://www.riverview-church.org/wp-content/uploads/2024/05/SDC.jpeg
END:VEVENT
BEGIN:VEVENT
DTSTART;TZID=America/Chicago:20250612T180000
DTEND;TZID=America/Chicago:20250612T200000
DTSTAMP:20260421T074423
CREATED:20250314T122741Z
LAST-MODIFIED:20250612T143926Z
UID:48412-1749751200-1749758400@www.riverview-church.org
SUMMARY:Rockers
DESCRIPTION:
URL:https://www.riverview-church.org/event/rockers-9/
ATTACH;FMTTYPE=image/jpeg:https://www.riverview-church.org/wp-content/uploads/2018/12/woods-3023033_1920.jpg
END:VEVENT
BEGIN:VEVENT
DTSTART;TZID=America/Chicago:20250615T083000
DTEND;TZID=America/Chicago:20250615T120000
DTSTAMP:20260421T074423
CREATED:20250317T122442Z
LAST-MODIFIED:20250615T143838Z
UID:48417-1749976200-1749988800@www.riverview-church.org
SUMMARY:Sunday Morning Events
DESCRIPTION:These events occur each Sunday.\n8:30 a.m. Traditional Service\n9:30 a.m. Sunday School/Bible Study\n10:45 a.m. Blended Worship This service will also be a live broadcast.
URL:https://www.riverview-church.org/event/sunday-morning-events-125/
ATTACH;FMTTYPE=image/jpeg:https://www.riverview-church.org/wp-content/uploads/2024/02/branches_27353ac-1.jpg
END:VEVENT
BEGIN:VEVENT
DTSTART;TZID=America/Chicago:20250615T090000
DTEND;TZID=America/Chicago:20250615T100000
DTSTAMP:20260421T074423
CREATED:20250320T122502Z
LAST-MODIFIED:20250615T143837Z
UID:48432-1749978000-1749981600@www.riverview-church.org
SUMMARY:Donuts with Dad
DESCRIPTION:
URL:https://www.riverview-church.org/event/donuts-with-dad/
LOCATION:Childrens Hall
ATTACH;FMTTYPE=image/jpeg:https://www.riverview-church.org/wp-content/uploads/2025/03/donuts_24789apc-2.jpg
END:VEVENT
BEGIN:VEVENT
DTSTART;TZID=America/Chicago:20250615T093000
DTEND;TZID=America/Chicago:20250615T130000
DTSTAMP:20260421T074423
CREATED:20250603T143855Z
LAST-MODIFIED:20250609T143724Z
UID:48731-1749979800-1749992400@www.riverview-church.org
SUMMARY:Sunday Morning Events
DESCRIPTION:These events occur each Sunday.\n8:30 a.m.             Traditional Service\n9:30 a.m.             Sunday School/Bible Study\n10:45 a.m.           Blended Worship This service will also be a live broadcast.
URL:https://www.riverview-church.org/event/sunday-morning-events-200/
END:VEVENT
END:VCALENDAR